BEGIN:VCALENDAR
VERSION:2.0
PRODID:-//Langston Boulevard Alliance - ECPv6.15.20//NONSGML v1.0//EN
CALSCALE:GREGORIAN
METHOD:PUBLISH
X-WR-CALNAME:Langston Boulevard Alliance
X-ORIGINAL-URL:https://langstonblvdalliance.com
X-WR-CALDESC:Events for Langston Boulevard Alliance
REFRESH-INTERVAL;VALUE=DURATION:PT1H
X-Robots-Tag:noindex
X-PUBLISHED-TTL:PT1H
BEGIN:VTIMEZONE
TZID:UTC
BEGIN:STANDARD
TZOFFSETFROM:+0000
TZOFFSETTO:+0000
TZNAME:UTC
DTSTART:20250101T000000
END:STANDARD
END:VTIMEZONE
BEGIN:VEVENT
DTSTART;TZID=UTC:20260424T120000
DTEND;TZID=UTC:20260424T160000
DTSTAMP:20260424T063958
CREATED:20260226T174300Z
LAST-MODIFIED:20260226T174307Z
UID:10000289-1777032000-1777046400@langstonblvdalliance.com
SUMMARY:Arlington Chamber Volunteer Day
DESCRIPTION:The Arlington Chamber of Commerce is seeking individuals and teams of enthusiastic volunteers to participate in Arlington Chamber Volunteer Day\, an annual tradition that engages businesses and individuals in rewarding half-day service projects throughout the community. Produced by the Chamber’s Community Action Committee\, Arlington Chamber Volunteer Day connects Arlington businesses to Chamber member nonprofits. Volunteer opportunities are available for individuals and groups of all sizes!
URL:https://langstonblvdalliance.com/event/arlington-chamber-volunteer-day/
ATTACH;FMTTYPE=image/png:https://langstonblvdalliance.com/wp-content/uploads/2024/09/logo_arl_chamber.png
END:VEVENT
BEGIN:VEVENT
DTSTART;TZID=UTC:20260424T180000
DTEND;TZID=UTC:20260424T213000
DTSTAMP:20260424T063958
CREATED:20260417T171354Z
LAST-MODIFIED:20260417T171355Z
UID:10000326-1777053600-1777066200@langstonblvdalliance.com
SUMMARY:Arlington County Civic Federation 2026 Banquet and Awards Ceremony
DESCRIPTION:Join Us for the Arlington County Civic Federation 2026 Banquet and Awards Ceremony! \n\n\n\nJoin your fellow Arlingtonions for an evening celebrating our community’s achievements at the 2026 ACCF Biannual Banquet and Awards Ceremony on Friday\, April 24\, 2026\, in the Ballroom of the recently renovated Spates Conference Center on Joint Base Myer Henderson Hall. The banquet brings together our members\, their guests\, and government and civic leaders from across the County — including ACCF member delegates\, alternates\, officers\, board members\, and other active participants in Arlington’s civic life.
URL:https://langstonblvdalliance.com/event/arlington-county-civic-federation-2026-banquet-and-awards-ceremony/
ATTACH;FMTTYPE=image/png:https://langstonblvdalliance.com/wp-content/uploads/2024/11/event_feature_community.png
END:VEVENT
END:VCALENDAR