BEGIN:VCALENDAR
VERSION:2.0
PRODID:-//Langston Boulevard Alliance - ECPv6.15.20//NONSGML v1.0//EN
CALSCALE:GREGORIAN
METHOD:PUBLISH
X-ORIGINAL-URL:https://langstonblvdalliance.com
X-WR-CALDESC:Events for Langston Boulevard Alliance
REFRESH-INTERVAL;VALUE=DURATION:PT1H
X-Robots-Tag:noindex
X-PUBLISHED-TTL:PT1H
BEGIN:VTIMEZONE
TZID:UTC
BEGIN:STANDARD
TZOFFSETFROM:+0000
TZOFFSETTO:+0000
TZNAME:UTC
DTSTART:20220101T000000
END:STANDARD
END:VTIMEZONE
BEGIN:VEVENT
DTSTART;TZID=UTC:20240421T110000
DTEND;TZID=UTC:20240421T170000
DTSTAMP:20260422T224100
CREATED:20231207T142037Z
LAST-MODIFIED:20240221T222330Z
UID:10000055-1713697200-1713718800@langstonblvdalliance.com
SUMMARY:Earth Day Festival 2024
DESCRIPTION:Join us for Langston’s 3rd annual Earth Day Every Day Festival! This family Friendly event has something for everyone! There will be live music\, art vendors\, local food and more. We will also be featuring a host of educational programming as we all learn how to better take care of the beautiful planet we call home. \n\n\n\nMark your calendars\, Arlington. This year’s Earth Day Every Day Festival will be held next to Lee Heights Shops on Sunday\, April 21 from 11-5 pm. \n\n\n\n Check out the event’s website for more.
URL:https://langstonblvdalliance.com/event/earth-day-festival-2024/
LOCATION:Lee Heights Shops\, 4500 Langston Boulevard\, Arlington\, Virginia\, 22205\, United States
CATEGORIES:LBA Events
ATTACH;FMTTYPE=image/png:https://langstonblvdalliance.com/wp-content/uploads/2024/02/event_save_date_earthday20242.png
END:VEVENT
BEGIN:VEVENT
DTSTART;TZID=UTC:20230812T100000
DTEND;TZID=UTC:20230812T120000
DTSTAMP:20260422T224100
CREATED:20230614T163735Z
LAST-MODIFIED:20231019T164000Z
UID:10000047-1691834400-1691841600@langstonblvdalliance.com
SUMMARY:President's Breakfast
DESCRIPTION:Breakfast discussion about Plan Langston Boulevard with all CAC Members\, former and current CA Presidents
URL:https://langstonblvdalliance.com/event/presidents-breakfast/
LOCATION:Langston Boulevard Alliance\, 4500 Langston Boulevard\, Arlington\, VA\, 22207\, United States
CATEGORIES:LBA Events
ATTACH;FMTTYPE=image/png:https://langstonblvdalliance.com/wp-content/uploads/2023/06/web_feature_pres_breakfast.png
END:VEVENT
BEGIN:VEVENT
DTSTART;TZID=UTC:20230519T000000
DTEND;TZID=UTC:20230519T235959
DTSTAMP:20260422T224100
CREATED:20230427T175209Z
LAST-MODIFIED:20230427T203431Z
UID:10000014-1684454400-1684540799@langstonblvdalliance.com
SUMMARY:Bike to Work Day 2023
DESCRIPTION:Join us at a pit stop on Langston Boulevard for this FREE event. The first 15\,000 who register and arrive at the pit stop by bike will receive a FREE T-shirt. Free giveaways\, food\, and beverages also included.
URL:https://langstonblvdalliance.com/event/bike-to-work-day-2023/
LOCATION:Lyon Village Shopping Center\, 3133 Langston Boulevard\, Arlington\, Virginia\, 22205\, United States
ATTACH;FMTTYPE=image/jpeg:https://langstonblvdalliance.com/wp-content/uploads/2023/04/event_btw_2023.jpg
END:VEVENT
END:VCALENDAR