BEGIN:VCALENDAR
VERSION:2.0
PRODID:-//Langston Boulevard Alliance - ECPv6.15.20//NONSGML v1.0//EN
CALSCALE:GREGORIAN
METHOD:PUBLISH
X-WR-CALNAME:Langston Boulevard Alliance
X-ORIGINAL-URL:https://langstonblvdalliance.com
X-WR-CALDESC:Events for Langston Boulevard Alliance
REFRESH-INTERVAL;VALUE=DURATION:PT1H
X-Robots-Tag:noindex
X-PUBLISHED-TTL:PT1H
BEGIN:VTIMEZONE
TZID:UTC
BEGIN:STANDARD
TZOFFSETFROM:+0000
TZOFFSETTO:+0000
TZNAME:UTC
DTSTART:20220101T000000
END:STANDARD
END:VTIMEZONE
BEGIN:VEVENT
DTSTART;TZID=UTC:20251003T170000
DTEND;TZID=UTC:20251003T210000
DTSTAMP:20260422T195313
CREATED:20250924T194802Z
LAST-MODIFIED:20250924T194803Z
UID:10000250-1759510800-1759525200@langstonblvdalliance.com
SUMMARY:Festival Latinoamericano
DESCRIPTION:Arlington County’s Festival Latinoamericano is dedicated to celebrating the vibrant and diverse cultures that enrich our community. Our mission is to showcase the rich tapestry of Latin American art\, food\, and culture in Arlington County\, providing a platform for local artists\, chefs\, and performers to share their talents and traditions with the public. By supporting small businesses and entrepreneurs\, we aim to foster economic growth and community spirit. This free event is designed to be inclusive and educational\, offering attendees of all backgrounds a chance to experience Hispanic Heritage firsthand. Join us in commemorating and preserving our cultural heritage while creating lasting connections and memories.
URL:https://langstonblvdalliance.com/event/festival-latinoamericano/
LOCATION:Arlington Mill Community Center\, 909 S Dinwiddie St\, Arlington\, Virginia\, 22204\, United States
ATTACH;FMTTYPE=image/png:https://langstonblvdalliance.com/wp-content/uploads/2024/11/event_feature_community.png
END:VEVENT
BEGIN:VEVENT
DTSTART;TZID=UTC:20230805T200000
DTEND;TZID=UTC:20230805T230000
DTSTAMP:20260422T195313
CREATED:20230621T181535Z
LAST-MODIFIED:20230621T194324Z
UID:10000052-1691265600-1691276400@langstonblvdalliance.com
SUMMARY:Late Night at the Mill
DESCRIPTION:Middle and high school teens! Join in on the fun at Arlington Mill Community Center for six great nights of dance\, sports\, art activities\, snacks and more! The center will stay open late from 8-11 p.m. for you to hang out with friends\, meet new ones and have some fun. Late Night at the Mill kicks off on Saturday\, June 17. The party keeps going June 24\, July 8\, July 22\, August 5\, and August 12. The last night\, August 12\, will be a pool party at Long Bridge Aquatic Center. Learn more and RSVP here.
URL:https://langstonblvdalliance.com/event/late-night-at-the-mill/2023-08-05/
LOCATION:Arlington Mill Community Center\, 909 S Dinwiddie St\, Arlington\, Virginia\, 22204\, United States
ATTACH;FMTTYPE=image/jpeg:https://langstonblvdalliance.com/wp-content/uploads/2023/06/event_late_night_mill.jpg
END:VEVENT
BEGIN:VEVENT
DTSTART;TZID=UTC:20230722T200000
DTEND;TZID=UTC:20230722T230000
DTSTAMP:20260422T195313
CREATED:20230621T181535Z
LAST-MODIFIED:20230621T194324Z
UID:10000051-1690056000-1690066800@langstonblvdalliance.com
SUMMARY:Late Night at the Mill
DESCRIPTION:Middle and high school teens! Join in on the fun at Arlington Mill Community Center for six great nights of dance\, sports\, art activities\, snacks and more! The center will stay open late from 8-11 p.m. for you to hang out with friends\, meet new ones and have some fun. Late Night at the Mill kicks off on Saturday\, June 17. The party keeps going June 24\, July 8\, July 22\, August 5\, and August 12. The last night\, August 12\, will be a pool party at Long Bridge Aquatic Center. Learn more and RSVP here.
URL:https://langstonblvdalliance.com/event/late-night-at-the-mill/2023-07-22/
LOCATION:Arlington Mill Community Center\, 909 S Dinwiddie St\, Arlington\, Virginia\, 22204\, United States
ATTACH;FMTTYPE=image/jpeg:https://langstonblvdalliance.com/wp-content/uploads/2023/06/event_late_night_mill.jpg
END:VEVENT
BEGIN:VEVENT
DTSTART;TZID=UTC:20230708T200000
DTEND;TZID=UTC:20230708T230000
DTSTAMP:20260422T195313
CREATED:20230621T181535Z
LAST-MODIFIED:20230621T194324Z
UID:10000050-1688846400-1688857200@langstonblvdalliance.com
SUMMARY:Late Night at the Mill
DESCRIPTION:Middle and high school teens! Join in on the fun at Arlington Mill Community Center for six great nights of dance\, sports\, art activities\, snacks and more! The center will stay open late from 8-11 p.m. for you to hang out with friends\, meet new ones and have some fun. Late Night at the Mill kicks off on Saturday\, June 17. The party keeps going June 24\, July 8\, July 22\, August 5\, and August 12. The last night\, August 12\, will be a pool party at Long Bridge Aquatic Center. Learn more and RSVP here.
URL:https://langstonblvdalliance.com/event/late-night-at-the-mill/2023-07-08/
LOCATION:Arlington Mill Community Center\, 909 S Dinwiddie St\, Arlington\, Virginia\, 22204\, United States
ATTACH;FMTTYPE=image/jpeg:https://langstonblvdalliance.com/wp-content/uploads/2023/06/event_late_night_mill.jpg
END:VEVENT
BEGIN:VEVENT
DTSTART;TZID=UTC:20230624T200000
DTEND;TZID=UTC:20230624T230000
DTSTAMP:20260422T195313
CREATED:20230621T181535Z
LAST-MODIFIED:20230621T194324Z
UID:10000049-1687636800-1687647600@langstonblvdalliance.com
SUMMARY:Late Night at the Mill
DESCRIPTION:Middle and high school teens! Join in on the fun at Arlington Mill Community Center for six great nights of dance\, sports\, art activities\, snacks and more! The center will stay open late from 8-11 p.m. for you to hang out with friends\, meet new ones and have some fun. Late Night at the Mill kicks off on Saturday\, June 17. The party keeps going June 24\, July 8\, July 22\, August 5\, and August 12. The last night\, August 12\, will be a pool party at Long Bridge Aquatic Center. Learn more and RSVP here.
URL:https://langstonblvdalliance.com/event/late-night-at-the-mill/2023-06-24/
LOCATION:Arlington Mill Community Center\, 909 S Dinwiddie St\, Arlington\, Virginia\, 22204\, United States
ATTACH;FMTTYPE=image/jpeg:https://langstonblvdalliance.com/wp-content/uploads/2023/06/event_late_night_mill.jpg
END:VEVENT
BEGIN:VEVENT
DTSTART;TZID=UTC:20230617T200000
DTEND;TZID=UTC:20230617T230000
DTSTAMP:20260422T195313
CREATED:20230621T181535Z
LAST-MODIFIED:20230621T194324Z
UID:10000048-1687032000-1687042800@langstonblvdalliance.com
SUMMARY:Late Night at the Mill
DESCRIPTION:Middle and high school teens! Join in on the fun at Arlington Mill Community Center for six great nights of dance\, sports\, art activities\, snacks and more! The center will stay open late from 8-11 p.m. for you to hang out with friends\, meet new ones and have some fun. Late Night at the Mill kicks off on Saturday\, June 17. The party keeps going June 24\, July 8\, July 22\, August 5\, and August 12. The last night\, August 12\, will be a pool party at Long Bridge Aquatic Center. Learn more and RSVP here.
URL:https://langstonblvdalliance.com/event/late-night-at-the-mill/2023-06-17/
LOCATION:Arlington Mill Community Center\, 909 S Dinwiddie St\, Arlington\, Virginia\, 22204\, United States
ATTACH;FMTTYPE=image/jpeg:https://langstonblvdalliance.com/wp-content/uploads/2023/06/event_late_night_mill.jpg
END:VEVENT
END:VCALENDAR