BEGIN:VCALENDAR
VERSION:2.0
PRODID:-//Langston Boulevard Alliance - ECPv6.15.20//NONSGML v1.0//EN
CALSCALE:GREGORIAN
METHOD:PUBLISH
X-WR-CALNAME:Langston Boulevard Alliance
X-ORIGINAL-URL:https://langstonblvdalliance.com
X-WR-CALDESC:Events for Langston Boulevard Alliance
REFRESH-INTERVAL;VALUE=DURATION:PT1H
X-Robots-Tag:noindex
X-PUBLISHED-TTL:PT1H
BEGIN:VTIMEZONE
TZID:UTC
BEGIN:STANDARD
TZOFFSETFROM:+0000
TZOFFSETTO:+0000
TZNAME:UTC
DTSTART:20250101T000000
END:STANDARD
END:VTIMEZONE
BEGIN:VEVENT
DTSTART;TZID=UTC:20260507T130000
DTEND;TZID=UTC:20260507T183000
DTSTAMP:20260422T171653
CREATED:20260417T171830Z
LAST-MODIFIED:20260417T171832Z
UID:10000327-1778158800-1778178600@langstonblvdalliance.com
SUMMARY:2026 Leadership Summit & Reception
DESCRIPTION:The annual Leadership Summit & Reception is an opportunity for regional leaders to connect with one another and learn from some of the nation’s guiding voices. \n\n\n\nThis afternoon of leadership development is meant to inspire and empower individuals with the reimagined perspectives and tools for enriching your own personal growth and influence.
URL:https://langstonblvdalliance.com/event/2026-leadership-summit-reception/
LOCATION:The Westin Arlington\, 801 N. Glebe Rd.\, Arlington\, Virginia
ATTACH;FMTTYPE=image/png:https://langstonblvdalliance.com/wp-content/uploads/2024/11/event_feature_business.png
END:VEVENT
END:VCALENDAR